BEGIN:VCALENDAR
VERSION:2.0
METHOD:PUBLISH
PRODID:-//Agenda.ad//NONSGML v1.0//EN
BEGIN:VEVENT
CLASS:PUBLIC
UID:1ecd9750ed3199658e2367d278a197b0@agenda.ad
DTSTAMP:20260422T003541Z
DTSTART:20191018T220000Z
DTEND:20191019T220000Z
SUMMARY:KUNSTANK "Preludi".&nbsp; Laura Maresc
DESCRIPTION:Contenidor d’art amb l’escultora Laura Maresc.\n
 \nMés informació\nhttps://www.agenda.ad/activitat/ordino/e
 xposicions/kunstank-preludi -laura-maresc\nElena Sán
 chez662 686
www.kunstank.com\n\nOrganitza\nKUNSTANK, conteni
 dors d'art
LOCATION:Capella Santa Bàrbara d'Ordino
SEQUENCE:0
TRANSP:OPAQUE
X-ALT-DESC;FMTTYPE=text/html:<!DOCTYPE HTML PUBLIC "-//W3C//DTD HTML 3.2//EN"><HTML><HEAD
 ><TITLE></TITLE></HEAD><BODY><FONT FACE="Arial" SIZE=2><p>Co
 ntenidor d&rsquo;art amb l&rsquo;escultora Laura Maresc.</p>
 <br/><br/><b>Més informació</b><br/><a href="https://www.a
 genda.ad/activitat/ordino/exposicions/kunstank-preludi -lau
 ra-maresc">https://www.agenda.ad/activitat/ordino/exposicion
 s/kunstank-preludi -laura-maresc</a><br/>Elena S&aacute;nch
 ez662 686
www.kunstank.com<br/><br/><b>Organitza</b><br/>KUN
 STANK, contenidors d'art</FONT></BODY></HTML>
END:VEVENT
END:VCALENDAR